BEGIN:VCALENDAR
VERSION:2.0
PRODID:-//Geography Teachers Association of NSW &amp; ACT - ECPv6.15.11//NONSGML v1.0//EN
CALSCALE:GREGORIAN
METHOD:PUBLISH
X-WR-CALNAME:Geography Teachers Association of NSW &amp; ACT
X-ORIGINAL-URL:https://gta.janiceatkin.com
X-WR-CALDESC:Events for Geography Teachers Association of NSW &amp; ACT
REFRESH-INTERVAL;VALUE=DURATION:PT1H
X-Robots-Tag:noindex
X-PUBLISHED-TTL:PT1H
BEGIN:VTIMEZONE
TZID:Australia/Melbourne
BEGIN:STANDARD
TZOFFSETFROM:+1100
TZOFFSETTO:+1000
TZNAME:AEST
DTSTART:20250405T160000
END:STANDARD
BEGIN:DAYLIGHT
TZOFFSETFROM:+1000
TZOFFSETTO:+1100
TZNAME:AEDT
DTSTART:20251004T160000
END:DAYLIGHT
BEGIN:STANDARD
TZOFFSETFROM:+1100
TZOFFSETTO:+1000
TZNAME:AEST
DTSTART:20260404T160000
END:STANDARD
BEGIN:DAYLIGHT
TZOFFSETFROM:+1000
TZOFFSETTO:+1100
TZNAME:AEDT
DTSTART:20261003T160000
END:DAYLIGHT
BEGIN:STANDARD
TZOFFSETFROM:+1100
TZOFFSETTO:+1000
TZNAME:AEST
DTSTART:20270403T160000
END:STANDARD
BEGIN:DAYLIGHT
TZOFFSETFROM:+1000
TZOFFSETTO:+1100
TZNAME:AEDT
DTSTART:20271002T160000
END:DAYLIGHT
END:VTIMEZONE
BEGIN:VEVENT
DTSTART;VALUE=DATE:20260430
DTEND;VALUE=DATE:20260502
DTSTAMP:20260421T025800
CREATED:20251030T035456Z
LAST-MODIFIED:20251118T060522Z
UID:10000023-1777507200-1777679999@gta.janiceatkin.com
SUMMARY:2026 Annual Conference: Making Geography Matter
DESCRIPTION:We are pleased to announce our upcoming 2026 Annual Conference: Making Geography Matter. \nThis event will focus on: \n\nEmpowering teachers to show students why place\, people and planet matter\nBrining the Geography subject back into the general zeitgeist\nBuilding the strength of the Geography subject in secondary study\, tertiary study\, and careers\nHighlighting and establishing prospective career pathways for students\nSignifying the importance of the study of Geography in contemporary schooling\n\n  \nIf you would like to be a presenter please submit your expression of interest here \nIf you would like to be an exhibitor or sponsor please register here
URL:https://gta.janiceatkin.com/event/2026-annual-conference-2/
CATEGORIES:Conference
ATTACH;FMTTYPE=image/png:https://gta.janiceatkin.com/wp-content/uploads/2025/10/Conference-Marketing-e1762494123434.png
ORGANIZER;CN="GTA NSW ACT":MAILTO:admin@gtanswact.org.au
END:VEVENT
END:VCALENDAR